BEGIN:VCALENDAR
VERSION:2.0
PRODID:-//Event Atlantic - ECPv6.15.20//NONSGML v1.0//EN
CALSCALE:GREGORIAN
METHOD:PUBLISH
X-WR-CALNAME:Event Atlantic
X-ORIGINAL-URL:https://eventatlantic.ca
X-WR-CALDESC:Events for Event Atlantic
REFRESH-INTERVAL;VALUE=DURATION:PT1H
X-Robots-Tag:noindex
X-PUBLISHED-TTL:PT1H
BEGIN:VTIMEZONE
TZID:America/Halifax
BEGIN:DAYLIGHT
TZOFFSETFROM:-0400
TZOFFSETTO:-0300
TZNAME:ADT
DTSTART:20240310T060000
END:DAYLIGHT
BEGIN:STANDARD
TZOFFSETFROM:-0300
TZOFFSETTO:-0400
TZNAME:AST
DTSTART:20241103T050000
END:STANDARD
BEGIN:DAYLIGHT
TZOFFSETFROM:-0400
TZOFFSETTO:-0300
TZNAME:ADT
DTSTART:20250309T060000
END:DAYLIGHT
BEGIN:STANDARD
TZOFFSETFROM:-0300
TZOFFSETTO:-0400
TZNAME:AST
DTSTART:20251102T050000
END:STANDARD
BEGIN:DAYLIGHT
TZOFFSETFROM:-0400
TZOFFSETTO:-0300
TZNAME:ADT
DTSTART:20260308T060000
END:DAYLIGHT
BEGIN:STANDARD
TZOFFSETFROM:-0300
TZOFFSETTO:-0400
TZNAME:AST
DTSTART:20261101T050000
END:STANDARD
BEGIN:DAYLIGHT
TZOFFSETFROM:-0400
TZOFFSETTO:-0300
TZNAME:ADT
DTSTART:20270314T060000
END:DAYLIGHT
BEGIN:STANDARD
TZOFFSETFROM:-0300
TZOFFSETTO:-0400
TZNAME:AST
DTSTART:20271107T050000
END:STANDARD
END:VTIMEZONE
BEGIN:VEVENT
DTSTART;TZID=America/Halifax:20260211T120000
DTEND;TZID=America/Halifax:20260211T130000
DTSTAMP:20260422T200806
CREATED:20260127T173133Z
LAST-MODIFIED:20260127T173133Z
UID:2703-1770811200-1770814800@eventatlantic.ca
SUMMARY:From Intent to Impact: Practical Sustainability for Events in 2026
DESCRIPTION:As part of Event Atlantic’s Monthly Atlantic Huddle series\, this session brings together Discover Halifax and sustainability experts to unpack what sustainable business events look like in 2026. Drawing from Discover Halifax’s new Sustainable Business Events Guide\, presenters will share practical\, regionally relevant approaches to sustainability\, helping event organizers move from good intentions to meaningful impact. Designed for event professionals across Atlantic Canada\, this tailored conversation focuses on realistic actions\, evolving expectations\, and what truly matters when planning responsible events today. \nFeaturing insights from:\n– Lesley Robb\, Founder\, Swell Impact\, Certified B Corporation\n– Jeff Nearing\, Vice President\, Business Events\, Discover Halifax \nREGISTER HERE: https://us02web.zoom.us/meeting/register/toCH9OGqTQy5bV75yWTSrw#/registration
URL:https://eventatlantic.ca/event/from-intent-to-impact-practical-sustainability-for-events-in-2026/
LOCATION:Zoom
ATTACH;FMTTYPE=image/png:https://eventatlantic.ca/wp-content/uploads/2026/01/Screenshot-2026-01-21-152400.png
END:VEVENT
BEGIN:VEVENT
DTSTART;TZID=America/Halifax:20250703T100000
DTEND;TZID=America/Halifax:20250703T110000
DTSTAMP:20260422T200806
CREATED:20250622T230035Z
LAST-MODIFIED:20250622T230515Z
UID:2497-1751536800-1751540400@eventatlantic.ca
SUMMARY:Atlantic Huddle - Queer Tourism Market Ready + What is Rainbow Registered
DESCRIPTION:Speakers: Tash Raposo & Victoria Wicks\nThe Canada’s 2slgbtqi+ Chamber of Commerce’s (CGLCC) Rainbow Registered team will provide an introduction into information on creating a welcoming environment for 2SLGBTQI+ customers\, enhancing your understanding of inclusive event practices\, and elevating your reputation as a destination and organization of choice. Additionally\, we’ll discuss the Rainbow Registered accreditation\, a national accreditation that signals your commitment to 2SLGBTQI+ inclusion and discuss how it can benefit your business or organization.Key Takeaways:\n~Understand who the 2SLGBTQI+ travel market is and why it matters.\n~Discover the benefits of becoming Rainbow Registered and how to get started.Whether you’re in the tourism and hospitality sector or simply looking to enhance your 2SLGBTQI+ inclusion practices\, the CGLCC’s Rainbow Registered team will provide valuable insights and tools to help your business stand out in this dynamic and impactful market.To register\, visit: https://bit.ly/AtlanticHuddle-RainbowRegistered
URL:https://eventatlantic.ca/event/atlantic-huddle-queer-tourism-market-ready-what-is-rainbow-registered/
ATTACH;FMTTYPE=image/png:https://eventatlantic.ca/wp-content/uploads/2025/06/Rainbow-Registered.png
END:VEVENT
END:VCALENDAR